Package: MAIT Version: 1.41.0 Command: /home/biocbuild/bbs-3.21-bioc/R/bin/R CMD build --keep-empty-dirs --no-resave-data MAIT StartedAt: 2025-02-20 18:01:37 -0500 (Thu, 20 Feb 2025) EndedAt: 2025-02-20 18:04:19 -0500 (Thu, 20 Feb 2025) EllapsedTime: 162.2 seconds RetCode: 0 Status: OK PackageFile: MAIT_1.41.0.tar.gz PackageFileSize: 2.366 MiB