Package: MAIT Version: 1.41.0 Command: /Library/Frameworks/R.framework/Resources/bin/R CMD INSTALL MAIT StartedAt: 2025-02-20 15:36:27 -0500 (Thu, 20 Feb 2025) EndedAt: 2025-02-20 15:37:38 -0500 (Thu, 20 Feb 2025) EllapsedTime: 70.8 seconds RetCode: 0 Status: OK