Package: MAI Version: 1.13.0 Command: E:\biocbuild\bbs-3.21-bioc\R\bin\R.exe CMD check --no-multiarch --install=check:MAI.install-out.txt --library=E:\biocbuild\bbs-3.21-bioc\R\library --no-vignettes --timings MAI_1.13.0.tar.gz StartedAt: 2025-02-18 02:20:52 -0500 (Tue, 18 Feb 2025) EndedAt: 2025-02-18 02:29:51 -0500 (Tue, 18 Feb 2025) EllapsedTime: 539.1 seconds RetCode: 0 Status: OK CheckDir: MAI.Rcheck Warnings: 0