Package: MAI Version: 1.13.0 Command: chmod a+r MAI -R && E:\biocbuild\bbs-3.21-bioc\R\bin\R.exe CMD build --keep-empty-dirs --no-resave-data MAI StartedAt: 2025-02-17 19:32:26 -0500 (Mon, 17 Feb 2025) EndedAt: 2025-02-17 19:37:58 -0500 (Mon, 17 Feb 2025) EllapsedTime: 332.3 seconds RetCode: 0 Status: OK PackageFile: MAI_1.13.0.tar.gz PackageFileSize: 452.5 KiB