Package: MAI Version: 1.13.0 Command: /Library/Frameworks/R.framework/Resources/bin/R CMD INSTALL MAI StartedAt: 2025-02-19 15:36:40 -0500 (Wed, 19 Feb 2025) EndedAt: 2025-02-19 15:37:16 -0500 (Wed, 19 Feb 2025) EllapsedTime: 36.2 seconds RetCode: 0 Status: OK