Package: MAI Version: 1.13.0 Command: rm -rf MAI.buildbin-libdir && mkdir MAI.buildbin-libdir && /Users/biocbuild/BBS/utils/build-universal.sh MAI_1.13.0.tar.gz /Library/Frameworks/R.framework/Resources/bin/R MAI.buildbin-libdir StartedAt: 2025-02-17 22:22:40 -0500 (Mon, 17 Feb 2025) EndedAt: 2025-02-17 22:22:52 -0500 (Mon, 17 Feb 2025) EllapsedTime: 12.3 seconds RetCode: 0 Status: OK PackageFile: MAI_1.13.0.tgz PackageFileSize: 498.7 KiB