Package: MAGAR Version: 1.15.1 Command: /home/biocbuild/bbs-3.21-bioc/R/bin/R CMD INSTALL MAGAR StartedAt: 2025-02-20 16:15:32 -0500 (Thu, 20 Feb 2025) EndedAt: 2025-02-20 16:15:32 -0500 (Thu, 20 Feb 2025) EllapsedTime: 0.3 seconds RetCode: 1 Status: ERROR