############################################################################## ############################################################################## ### ### Running command: ### ### /Library/Frameworks/R.framework/Resources/bin/R CMD build --keep-empty-dirs --no-resave-data MAGAR ### ############################################################################## ############################################################################## * checking for file ‘MAGAR/DESCRIPTION’ ... OK * preparing ‘MAGAR’: * checking DESCRIPTION meta-information ... OK * installing the package to build vignettes ----------------------------------- ERROR: dependency ‘crlmm’ is not available for package ‘MAGAR’ Perhaps try a variation of: install.packages('crlmm') * removing ‘/private/tmp/Rtmp7X1SbD/Rinst1481f45ea5509/MAGAR’ ----------------------------------- ERROR: package installation failed