Package: MADSEQ Version: 1.33.0 Command: /home/biocbuild/bbs-3.21-bioc/R/bin/R CMD INSTALL MADSEQ StartedAt: 2025-02-19 15:40:35 -0500 (Wed, 19 Feb 2025) EndedAt: 2025-02-19 15:41:18 -0500 (Wed, 19 Feb 2025) EllapsedTime: 42.2 seconds RetCode: 0 Status: OK