Package: MADSEQ Version: 1.33.0 Command: /Library/Frameworks/R.framework/Resources/bin/R CMD build --keep-empty-dirs --no-resave-data MADSEQ StartedAt: 2025-02-19 17:11:59 -0500 (Wed, 19 Feb 2025) EndedAt: 2025-02-19 17:13:17 -0500 (Wed, 19 Feb 2025) EllapsedTime: 77.9 seconds RetCode: 0 Status: OK PackageFile: MADSEQ_1.33.0.tar.gz PackageFileSize: 2.032 MiB