Package: MADSEQ Version: 1.33.0 Maintainer: Yu Kong MaintainerEmail: yu.kong at phd.einstein.yu.edu git_url: https://git.bioconductor.org/packages/MADSEQ git_branch: devel git_last_commit: 4a2b4e3 git_last_commit_date: 2024-10-29 10:11:24 -0500 (Tue, 29 Oct 2024)