Package: MACSr Version: 1.15.0 Command: rm -rf MACSr.buildbin-libdir && mkdir MACSr.buildbin-libdir && /Users/biocbuild/BBS/utils/build-universal.sh MACSr_1.15.0.tar.gz /Library/Frameworks/R.framework/Resources/bin/R MACSr.buildbin-libdir StartedAt: 2025-02-21 00:37:54 -0500 (Fri, 21 Feb 2025) EndedAt: 2025-02-21 00:38:26 -0500 (Fri, 21 Feb 2025) EllapsedTime: 31.5 seconds RetCode: 0 Status: OK PackageFile: MACSr_1.15.0.tgz PackageFileSize: 5.329 MiB