Package: MACSr Version: 1.15.0 Command: /Library/Frameworks/R.framework/Resources/bin/R CMD INSTALL MACSr StartedAt: 2025-02-20 15:08:52 -0500 (Thu, 20 Feb 2025) EndedAt: 2025-02-20 15:08:59 -0500 (Thu, 20 Feb 2025) EllapsedTime: 6.8 seconds RetCode: 0 Status: OK