Package: MACSQuantifyR Version: 1.21.0 Command: /home/biocbuild/bbs-3.21-bioc/R/bin/R CMD build --keep-empty-dirs --no-resave-data MACSQuantifyR StartedAt: 2025-02-20 18:01:16 -0500 (Thu, 20 Feb 2025) EndedAt: 2025-02-20 18:01:37 -0500 (Thu, 20 Feb 2025) EllapsedTime: 21.0 seconds RetCode: 0 Status: OK PackageFile: MACSQuantifyR_1.21.0.tar.gz PackageFileSize: 3.77 MiB