Package: MACSQuantifyR Version: 1.21.0 Command: /Library/Frameworks/R.framework/Resources/bin/R CMD INSTALL MACSQuantifyR StartedAt: 2025-02-21 15:27:02 -0500 (Fri, 21 Feb 2025) EndedAt: 2025-02-21 15:27:11 -0500 (Fri, 21 Feb 2025) EllapsedTime: 8.6 seconds RetCode: 0 Status: OK