Package: MACSQuantifyR Version: 1.21.0 Command: rm -rf MACSQuantifyR.buildbin-libdir && mkdir MACSQuantifyR.buildbin-libdir && /Users/biocbuild/BBS/utils/build-universal.sh MACSQuantifyR_1.21.0.tar.gz /Library/Frameworks/R.framework/Resources/bin/R MACSQuantifyR.buildbin-libdir StartedAt: 2025-02-22 00:38:54 -0500 (Sat, 22 Feb 2025) EndedAt: 2025-02-22 00:39:06 -0500 (Sat, 22 Feb 2025) EllapsedTime: 11.6 seconds RetCode: 0 Status: OK PackageFile: MACSQuantifyR_1.21.0.tgz PackageFileSize: 4.464 MiB