Package: MACSQuantifyR Version: 1.21.0 Command: /home/biocbuild/R/R/bin/R CMD check --install=check:MACSQuantifyR.install-out.txt --library=/home/biocbuild/R/R/site-library --no-vignettes --timings MACSQuantifyR_1.21.0.tar.gz StartedAt: 2025-01-28 11:59:55 -0000 (Tue, 28 Jan 2025) EndedAt: 2025-01-28 12:00:42 -0000 (Tue, 28 Jan 2025) EllapsedTime: 47.0 seconds RetCode: 0 Status: WARNINGS CheckDir: MACSQuantifyR.Rcheck Warnings: 5