Package: MACSQuantifyR Version: 1.21.0 Command: /home/biocbuild/R/R/bin/R CMD build --keep-empty-dirs --no-resave-data MACSQuantifyR StartedAt: 2025-01-28 23:57:52 -0000 (Tue, 28 Jan 2025) EndedAt: 2025-01-28 23:58:27 -0000 (Tue, 28 Jan 2025) EllapsedTime: 35.0 seconds RetCode: 0 Status: OK PackageFile: MACSQuantifyR_1.21.0.tar.gz PackageFileSize: 2.472 MiB