Package: MACSQuantifyR Version: 1.21.0 Command: /Library/Frameworks/R.framework/Resources/bin/R CMD check --install=check:MACSQuantifyR.install-out.txt --library=/Library/Frameworks/R.framework/Resources/library --no-vignettes --timings MACSQuantifyR_1.21.0.tar.gz StartedAt: 2025-02-20 19:57:35 -0500 (Thu, 20 Feb 2025) EndedAt: 2025-02-20 19:57:54 -0500 (Thu, 20 Feb 2025) EllapsedTime: 19.2 seconds RetCode: 0 Status: OK CheckDir: MACSQuantifyR.Rcheck Warnings: 0