Package: M3Drop Version: 1.33.0 Command: E:\biocbuild\bbs-3.21-bioc\R\bin\R.exe CMD check --no-multiarch --install=check:M3Drop.install-out.txt --library=E:\biocbuild\bbs-3.21-bioc\R\library --no-vignettes --timings M3Drop_1.33.0.tar.gz StartedAt: 2025-02-20 02:31:36 -0500 (Thu, 20 Feb 2025) EndedAt: 2025-02-20 02:38:17 -0500 (Thu, 20 Feb 2025) EllapsedTime: 400.6 seconds RetCode: 0 Status: OK CheckDir: M3Drop.Rcheck Warnings: 0