Package: M3Drop Version: 1.33.0 Command: chmod a+r M3Drop -R && E:\biocbuild\bbs-3.21-bioc\R\bin\R.exe CMD build --keep-empty-dirs --no-resave-data M3Drop StartedAt: 2025-02-19 19:38:41 -0500 (Wed, 19 Feb 2025) EndedAt: 2025-02-19 19:42:02 -0500 (Wed, 19 Feb 2025) EllapsedTime: 201.2 seconds RetCode: 0 Status: OK PackageFile: M3Drop_1.33.0.tar.gz PackageFileSize: 12.14 MiB