Package: M3C Version: 1.29.0 Command: /home/biocbuild/bbs-3.21-bioc/R/bin/R CMD INSTALL M3C StartedAt: 2025-02-19 15:11:17 -0500 (Wed, 19 Feb 2025) EndedAt: 2025-02-19 15:11:34 -0500 (Wed, 19 Feb 2025) EllapsedTime: 16.6 seconds RetCode: 0 Status: OK