Package: M3C Version: 1.29.0 Command: /Library/Frameworks/R.framework/Resources/bin/R CMD check --install=check:M3C.install-out.txt --library=/Library/Frameworks/R.framework/Resources/library --no-vignettes --timings M3C_1.29.0.tar.gz StartedAt: 2025-02-20 21:19:48 -0500 (Thu, 20 Feb 2025) EndedAt: 2025-02-20 21:21:20 -0500 (Thu, 20 Feb 2025) EllapsedTime: 92.0 seconds RetCode: 0 Status: OK CheckDir: M3C.Rcheck Warnings: 0