Package: LymphoSeq Version: 1.35.0 Command: E:\biocbuild\bbs-3.21-bioc\R\bin\R.exe CMD INSTALL LymphoSeq StartedAt: 2025-02-18 15:44:39 -0500 (Tue, 18 Feb 2025) EndedAt: 2025-02-18 15:45:18 -0500 (Tue, 18 Feb 2025) EllapsedTime: 39.6 seconds RetCode: 0 Status: OK