Package: LymphoSeq Version: 1.35.0 Command: /home/biocbuild/bbs-3.21-bioc/R/bin/R CMD INSTALL LymphoSeq StartedAt: 2025-02-18 15:33:42 -0500 (Tue, 18 Feb 2025) EndedAt: 2025-02-18 15:34:00 -0500 (Tue, 18 Feb 2025) EllapsedTime: 18.3 seconds RetCode: 0 Status: OK