Package: LymphoSeq Version: 1.35.0 Command: rm -rf LymphoSeq.buildbin-libdir && mkdir LymphoSeq.buildbin-libdir && /Users/biocbuild/BBS/utils/build-universal.sh LymphoSeq_1.35.0.tar.gz /Library/Frameworks/R.framework/Resources/bin/R LymphoSeq.buildbin-libdir StartedAt: 2025-02-18 22:26:42 -0500 (Tue, 18 Feb 2025) EndedAt: 2025-02-18 22:26:50 -0500 (Tue, 18 Feb 2025) EllapsedTime: 8.2 seconds RetCode: 0 Status: OK PackageFile: LymphoSeq_1.35.0.tgz PackageFileSize: 2.494 MiB