Package: LoomExperiment Version: 1.25.0 Command: chmod a+r LoomExperiment -R && E:\biocbuild\bbs-3.21-bioc\R\bin\R.exe CMD build --keep-empty-dirs --no-resave-data LoomExperiment StartedAt: 2025-02-19 19:37:56 -0500 (Wed, 19 Feb 2025) EndedAt: 2025-02-19 19:39:27 -0500 (Wed, 19 Feb 2025) EllapsedTime: 91.2 seconds RetCode: 0 Status: OK PackageFile: LoomExperiment_1.25.0.tar.gz PackageFileSize: 253.1 KiB