Package: LoomExperiment Version: 1.25.0 Command: rm -rf LoomExperiment.buildbin-libdir && mkdir LoomExperiment.buildbin-libdir && E:\biocbuild\bbs-3.21-bioc\R\bin\R.exe CMD INSTALL --build --library=LoomExperiment.buildbin-libdir LoomExperiment_1.25.0.tar.gz StartedAt: 2025-02-20 08:04:43 -0500 (Thu, 20 Feb 2025) EndedAt: 2025-02-20 08:07:00 -0500 (Thu, 20 Feb 2025) EllapsedTime: 136.2 seconds RetCode: 0 Status: OK PackageFile: LoomExperiment_1.25.0.zip PackageFileSize: 876 KiB