Package: LoomExperiment Version: 1.25.0 Command: /Library/Frameworks/R.framework/Resources/bin/R CMD build --keep-empty-dirs --no-resave-data LoomExperiment StartedAt: 2025-02-19 17:11:01 -0500 (Wed, 19 Feb 2025) EndedAt: 2025-02-19 17:11:51 -0500 (Wed, 19 Feb 2025) EllapsedTime: 50.3 seconds RetCode: 0 Status: OK PackageFile: LoomExperiment_1.25.0.tar.gz PackageFileSize: 252.9 KiB