Package: LoomExperiment Version: 1.25.0 Command: /Library/Frameworks/R.framework/Resources/bin/R CMD INSTALL LoomExperiment StartedAt: 2025-02-20 15:05:09 -0500 (Thu, 20 Feb 2025) EndedAt: 2025-02-20 15:05:20 -0500 (Thu, 20 Feb 2025) EllapsedTime: 11.3 seconds RetCode: 0 Status: OK