Package: LoomExperiment Version: 1.25.0 Command: rm -rf LoomExperiment.buildbin-libdir && mkdir LoomExperiment.buildbin-libdir && /Users/biocbuild/BBS/utils/build-universal.sh LoomExperiment_1.25.0.tar.gz /Library/Frameworks/R.framework/Resources/bin/R LoomExperiment.buildbin-libdir StartedAt: 2025-02-20 22:23:58 -0500 (Thu, 20 Feb 2025) EndedAt: 2025-02-20 22:24:11 -0500 (Thu, 20 Feb 2025) EllapsedTime: 12.3 seconds RetCode: 0 Status: OK PackageFile: LoomExperiment_1.25.0.tgz PackageFileSize: 873.2 KiB