Package: LiquidAssociation Version: 1.61.0 Command: /Library/Frameworks/R.framework/Resources/bin/R CMD check --install=check:LiquidAssociation.install-out.txt --library=/Library/Frameworks/R.framework/Resources/library --no-vignettes --timings LiquidAssociation_1.61.0.tar.gz StartedAt: 2025-02-20 21:18:02 -0500 (Thu, 20 Feb 2025) EndedAt: 2025-02-20 21:19:58 -0500 (Thu, 20 Feb 2025) EllapsedTime: 116.1 seconds RetCode: 0 Status: OK CheckDir: LiquidAssociation.Rcheck Warnings: 0