Package: LiquidAssociation Version: 1.61.0 Command: rm -rf LiquidAssociation.buildbin-libdir && mkdir LiquidAssociation.buildbin-libdir && /Users/biocbuild/BBS/utils/build-universal.sh LiquidAssociation_1.61.0.tar.gz /Library/Frameworks/R.framework/Resources/bin/R LiquidAssociation.buildbin-libdir StartedAt: 2025-02-21 00:37:30 -0500 (Fri, 21 Feb 2025) EndedAt: 2025-02-21 00:37:53 -0500 (Fri, 21 Feb 2025) EllapsedTime: 23.1 seconds RetCode: 0 Status: OK PackageFile: LiquidAssociation_1.61.0.tgz PackageFileSize: 506.8 KiB