Package: LiquidAssociation Version: 1.61.0 Command: /Library/Frameworks/R.framework/Resources/bin/R CMD build --keep-empty-dirs --no-resave-data LiquidAssociation StartedAt: 2025-02-20 16:47:09 -0500 (Thu, 20 Feb 2025) EndedAt: 2025-02-20 16:47:21 -0500 (Thu, 20 Feb 2025) EllapsedTime: 12.2 seconds RetCode: 0 Status: OK PackageFile: LiquidAssociation_1.61.0.tar.gz PackageFileSize: 285.8 KiB