Package: Linnorm Version: 2.31.0 Command: /home/biocbuild/bbs-3.21-bioc/R/bin/R CMD INSTALL Linnorm StartedAt: 2025-02-20 15:19:15 -0500 (Thu, 20 Feb 2025) EndedAt: 2025-02-20 15:19:35 -0500 (Thu, 20 Feb 2025) EllapsedTime: 19.8 seconds RetCode: 0 Status: OK