Package: Linnorm Version: 2.31.0 Command: /home/biocbuild/bbs-3.21-bioc/R/bin/R CMD check --install=check:Linnorm.install-out.txt --library=/home/biocbuild/bbs-3.21-bioc/R/site-library --timings Linnorm_2.31.0.tar.gz StartedAt: 2025-02-20 23:09:05 -0500 (Thu, 20 Feb 2025) EndedAt: 2025-02-20 23:17:49 -0500 (Thu, 20 Feb 2025) EllapsedTime: 524.8 seconds RetCode: 0 Status: OK CheckDir: Linnorm.Rcheck Warnings: 0