Package: Linnorm Version: 2.31.0 Command: /Library/Frameworks/R.framework/Resources/bin/R CMD check --install=check:Linnorm.install-out.txt --library=/Library/Frameworks/R.framework/Resources/library --no-vignettes --timings Linnorm_2.31.0.tar.gz StartedAt: 2025-02-20 21:17:40 -0500 (Thu, 20 Feb 2025) EndedAt: 2025-02-20 21:23:28 -0500 (Thu, 20 Feb 2025) EllapsedTime: 348.1 seconds RetCode: 0 Status: OK CheckDir: Linnorm.Rcheck Warnings: 0