Package: LinkHD Version: 1.21.0 Command: E:\biocbuild\bbs-3.21-bioc\R\bin\R.exe CMD INSTALL LinkHD StartedAt: 2025-02-20 16:57:13 -0500 (Thu, 20 Feb 2025) EndedAt: 2025-02-20 16:57:53 -0500 (Thu, 20 Feb 2025) EllapsedTime: 40.3 seconds RetCode: 0 Status: OK