Package: LinkHD Version: 1.21.0 Command: chmod a+r LinkHD -R && E:\biocbuild\bbs-3.21-bioc\R\bin\R.exe CMD build --keep-empty-dirs --no-resave-data LinkHD StartedAt: 2025-02-20 19:37:48 -0500 (Thu, 20 Feb 2025) EndedAt: 2025-02-20 19:39:12 -0500 (Thu, 20 Feb 2025) EllapsedTime: 83.9 seconds RetCode: 0 Status: OK PackageFile: LinkHD_1.21.0.tar.gz PackageFileSize: 1.816 MiB