Package: LinkHD Version: 1.21.0 Command: rm -rf LinkHD.buildbin-libdir && mkdir LinkHD.buildbin-libdir && /Users/biocbuild/BBS/utils/build-universal.sh LinkHD_1.21.0.tar.gz /Library/Frameworks/R.framework/Resources/bin/R LinkHD.buildbin-libdir StartedAt: 2025-02-21 00:37:27 -0500 (Fri, 21 Feb 2025) EndedAt: 2025-02-21 00:38:07 -0500 (Fri, 21 Feb 2025) EllapsedTime: 40.7 seconds RetCode: 0 Status: OK PackageFile: LinkHD_1.21.0.tgz PackageFileSize: 2.08 MiB