Package: LimROTS Version: 0.99.12 Command: E:\biocbuild\bbs-3.21-bioc\R\bin\R.exe CMD INSTALL LimROTS StartedAt: 2025-02-17 16:03:29 -0500 (Mon, 17 Feb 2025) EndedAt: 2025-02-17 16:04:02 -0500 (Mon, 17 Feb 2025) EllapsedTime: 33.4 seconds RetCode: 0 Status: OK