Package: LimROTS Version: 0.99.12 Command: rm -rf LimROTS.buildbin-libdir && mkdir LimROTS.buildbin-libdir && E:\biocbuild\bbs-3.21-bioc\R\bin\R.exe CMD INSTALL --build --library=LimROTS.buildbin-libdir LimROTS_0.99.12.tar.gz StartedAt: 2025-02-18 07:37:59 -0500 (Tue, 18 Feb 2025) EndedAt: 2025-02-18 07:38:34 -0500 (Tue, 18 Feb 2025) EllapsedTime: 34.9 seconds RetCode: 0 Status: OK PackageFile: LimROTS_0.99.12.zip PackageFileSize: 609.6 KiB