Package: LimROTS Version: 0.99.12 Command: /home/biocbuild/bbs-3.21-bioc/R/bin/R CMD build --keep-empty-dirs --no-resave-data LimROTS StartedAt: 2025-02-19 17:50:51 -0500 (Wed, 19 Feb 2025) EndedAt: 2025-02-19 17:52:01 -0500 (Wed, 19 Feb 2025) EllapsedTime: 70.1 seconds RetCode: 0 Status: OK PackageFile: LimROTS_0.99.12.tar.gz PackageFileSize: 762.7 KiB