Package: LimROTS Version: 0.99.12 Command: /Library/Frameworks/R.framework/Resources/bin/R CMD INSTALL LimROTS StartedAt: 2025-02-17 15:13:09 -0500 (Mon, 17 Feb 2025) EndedAt: 2025-02-17 15:13:41 -0500 (Mon, 17 Feb 2025) EllapsedTime: 32.2 seconds RetCode: 0 Status: OK