Package: LimROTS Version: 0.99.12 Command: /Library/Frameworks/R.framework/Resources/bin/R CMD check --install=check:LimROTS.install-out.txt --library=/Library/Frameworks/R.framework/Resources/library --no-vignettes --timings LimROTS_0.99.12.tar.gz StartedAt: 2025-02-17 21:12:58 -0500 (Mon, 17 Feb 2025) EndedAt: 2025-02-17 21:16:29 -0500 (Mon, 17 Feb 2025) EllapsedTime: 211.5 seconds RetCode: 0 Status: OK CheckDir: LimROTS.Rcheck Warnings: 0