Package: LimROTS Version: 0.99.12 Command: /Library/Frameworks/R.framework/Resources/bin/R CMD build --keep-empty-dirs --no-resave-data LimROTS StartedAt: 2025-02-17 17:08:35 -0500 (Mon, 17 Feb 2025) EndedAt: 2025-02-17 17:09:55 -0500 (Mon, 17 Feb 2025) EllapsedTime: 79.9 seconds RetCode: 0 Status: OK PackageFile: LimROTS_0.99.12.tar.gz PackageFileSize: 772.6 KiB