Package: LimROTS Version: 0.99.12 Command: /Library/Frameworks/R.framework/Resources/bin/R CMD build --keep-empty-dirs --no-resave-data LimROTS StartedAt: 2025-02-17 16:45:28 -0500 (Mon, 17 Feb 2025) EndedAt: 2025-02-17 16:45:59 -0500 (Mon, 17 Feb 2025) EllapsedTime: 30.4 seconds RetCode: 0 Status: OK PackageFile: LimROTS_0.99.12.tar.gz PackageFileSize: 774.2 KiB