Package: LRcell Version: 1.15.0 Command: E:\biocbuild\bbs-3.21-bioc\R\bin\R.exe CMD INSTALL LRcell StartedAt: 2025-02-19 15:46:43 -0500 (Wed, 19 Feb 2025) EndedAt: 2025-02-19 15:47:08 -0500 (Wed, 19 Feb 2025) EllapsedTime: 25.8 seconds RetCode: 0 Status: OK