Package: LRcell Version: 1.15.0 Command: rm -rf LRcell.buildbin-libdir && mkdir LRcell.buildbin-libdir && E:\biocbuild\bbs-3.21-bioc\R\bin\R.exe CMD INSTALL --build --library=LRcell.buildbin-libdir LRcell_1.15.0.tar.gz StartedAt: 2025-02-20 08:04:52 -0500 (Thu, 20 Feb 2025) EndedAt: 2025-02-20 08:05:18 -0500 (Thu, 20 Feb 2025) EllapsedTime: 25.5 seconds RetCode: 0 Status: OK PackageFile: LRcell_1.15.0.zip PackageFileSize: 774.8 KiB