Package: LRcell Version: 1.15.0 Command: /Library/Frameworks/R.framework/Resources/bin/R CMD check --install=check:LRcell.install-out.txt --library=/Library/Frameworks/R.framework/Resources/library --no-vignettes --timings LRcell_1.15.0.tar.gz StartedAt: 2025-02-19 21:20:05 -0500 (Wed, 19 Feb 2025) EndedAt: 2025-02-19 21:22:58 -0500 (Wed, 19 Feb 2025) EllapsedTime: 173.0 seconds RetCode: 0 Status: OK CheckDir: LRcell.Rcheck Warnings: 0